BEGIN:VCALENDAR
VERSION:2.0
PRODID:-//GOAT - Golf On Any Tee - ECPv6.15.11//NONSGML v1.0//EN
CALSCALE:GREGORIAN
METHOD:PUBLISH
X-ORIGINAL-URL:https://golfonanytee.com
X-WR-CALDESC:Events for GOAT - Golf On Any Tee
REFRESH-INTERVAL;VALUE=DURATION:PT1H
X-Robots-Tag:noindex
X-PUBLISHED-TTL:PT1H
BEGIN:VTIMEZONE
TZID:UTC
BEGIN:STANDARD
TZOFFSETFROM:+0000
TZOFFSETTO:+0000
TZNAME:UTC
DTSTART:20250101T000000
END:STANDARD
END:VTIMEZONE
BEGIN:VEVENT
DTSTART;VALUE=DATE:20260425
DTEND;VALUE=DATE:20260426
DTSTAMP:20260423T145034
CREATED:20260330T184122Z
LAST-MODIFIED:20260330T190245Z
UID:22647-1777075200-1777161599@golfonanytee.com
SUMMARY:GOAT - Golf Season Kick Off Outing
DESCRIPTION:GOAT Season Kickoff Outing 2026: Chicago’s Premier Spring Scramble\nIntroduction\nTee off the season in style at the GOAT Season Kickoff Outing\, coming to ThunderHawk GC on Saturday\, April 25th\, 2026. Located just a short drive from downtown Chicago in scenic Beach Park\, IL\, this is the ultimate way to shake off the winter rust. Whether you are a scratch golfer or just looking for a fun day on the links\, our scramble format ensures a high-energy\, low-pressure day perfect for golfers of all skill levels. \nEvent Details\nDate & Time\nMark your calendars for Saturday\, April 25th\, 2026. The action begins with a shotgun start at 8:00 AM sharp\, ensuring everyone finishes in time to enjoy the rest of their weekend. \nLocation: ThunderHawk GC\nWe are hosting this event at one of the top-rated public courses in the northern suburbs: ThunderHawk GC. Located at 39700 N Lewis Ave\, Beach Park\, Illinois\, this facility is renowned for its links-style layout\, pristine fairways\, and challenging yet rewarding design. It is the perfect venue to kick off the golf season in the Chicago area. \nFormat & Pricing\nWe are keeping the competition friendly with a 4-person scramble. No handicaps? No problem. The scramble format allows teams to focus on strategy and fun. \n\nRegistration Fee: $100 per player\nFormat: 4-Person Scramble\nIncludes: Greens fees\, cart\, and prize pool.\n\nWhy You Should Play\nThe Best Spring Golf Outing in Chicago\nAs the snow melts and the courses green up\, the GOAT Season Kickoff Outing stands out as the must-play event for Chicagoland golfers. We handle all the logistics so you can focus on hitting fairways and having a great time with your friends or business associates. \nWhat to Expect: \n\nCompetitive Fun: The scramble format encourages team camaraderie and big scores.\nPremier Venue: ThunderHawk GC is consistently rated as one of the best golf courses in Illinois.\nConvenient Location: Easily accessible for golfers coming from Chicago\, the North Shore\, and Kenosha County.\n\nRegistration\nSpots for this shotgun start event are limited. To secure your team’s place in the field\, visit www.golfonanytee.com today. Early registration is recommended\, as this event is expected to sell out quickly. \nDon’t miss your chance to be the GOAT of the spring season. Register now! \nQuestions? Contact us at info@golfonanytee.com for more information. \nWe can’t wait to see you on the course!
URL:https://golfonanytee.com/event/goat-golf-season-kick-off-outing/
LOCATION:Thunderhawk Golf Club\, 39700 N Lewis Ave\, Beach Park\, Chicago\, IL\, 60099\, United States
CATEGORIES:GOAT outings
ATTACH;FMTTYPE=image/jpeg:https://golfonanytee.com/wp-content/uploads/2026/03/goat-golf-season-outing.jpeg
ORGANIZER;CN="GOAT - Golf On Any Tee":MAILTO:info@golfonanytee.com
END:VEVENT
END:VCALENDAR