BEGIN:VCALENDAR
VERSION:2.0
PRODID:-//GOAT - Golf On Any Tee - ECPv6.15.11//NONSGML v1.0//EN
CALSCALE:GREGORIAN
METHOD:PUBLISH
X-WR-CALNAME:GOAT - Golf On Any Tee
X-ORIGINAL-URL:https://golfonanytee.com
X-WR-CALDESC:Events for GOAT - Golf On Any Tee
REFRESH-INTERVAL;VALUE=DURATION:PT1H
X-Robots-Tag:noindex
X-PUBLISHED-TTL:PT1H
BEGIN:VTIMEZONE
TZID:UTC
BEGIN:STANDARD
TZOFFSETFROM:+0000
TZOFFSETTO:+0000
TZNAME:UTC
DTSTART:20240101T000000
END:STANDARD
END:VTIMEZONE
BEGIN:VEVENT
DTSTART;VALUE=DATE:20251018
DTEND;VALUE=DATE:20251019
DTSTAMP:20260425T152432
CREATED:20250901T192240Z
LAST-MODIFIED:20250901T195850Z
UID:22163-1760745600-1760831999@golfonanytee.com
SUMMARY:GOAT 6th Annual Charity Outing
DESCRIPTION:Round Up The Herd! The 6th Annual GOAT Golf Charity Outing\nSATURDAY\, OCTOBER 18TH\, 2025\nGlenview Park Golf Club | Chicago\, IL \nGet ready for the most anticipated event of the season! The GOAT App community is hosting its 6th Annual “Golf On Any Tee” Charity Outing\, and you’re invited. Join us for an unforgettable day on the links filled with golf\, camaraderie\, and purpose as we come together to raise money for an important cause. \nThis is more than just a golf tournament; it’s a chance to connect with your fellow GOATs\, create lasting memories\, and make a real impact in our community. \nEvent Highlights: A Day of Competition & Camaraderie\n\n\nFormat: 4-Person Scramble (perfect for all skill levels!) \n\n\nOn-Course Experience: Enjoy a fantastic round on a premier Chicago-area course. \n\n\nFood & Drinks: Delicious food and refreshing drinks are included throughout the day. \n\n\nPrizes & Giveaways: Compete for awesome prizes and enjoy exciting raffles. \n\n\nThe Cause: Every swing supports our mission to give back through charity. \n\n\nEvent Details & Registration\nDon’t miss your chance to be part of the herd. Gather your team and secure your spot today! \n\n\nDate: Saturday\, October 18\, 2025 \n\n\nLocation: Glenview Park Golf Club\, 800 Shermer Rd\, Glenview\, IL 60025 \n\n\nPricing: \n\n\nIndividual Golfer: $150 \n\n\nFoursome Team: $500 \n\n\n\n\nRegister Now & Secure Your Spot! \nSpots are limited for this popular event. We expect to sell out quickly! \nWhy Join Us?\nBy participating in the GOAT Golf On Any Tee outing\, you’re not just signing up for a day of fun—you’re making a difference. This event is built on the foundation of our community: a love for golf and a commitment to helping others. Come for the golf\, stay for the laughs\, and leave knowing you contributed to something bigger. \nQuestions? Contact us at info@golfonanytee.com for more information. \nWe can’t wait to see you on the course!
URL:https://golfonanytee.com/event/goat-6th-annual-charity-outing/
LOCATION:IL
CATEGORIES:GOAT outings
ATTACH;FMTTYPE=image/png:https://golfonanytee.com/wp-content/uploads/2025/09/GOAT-Golf-On-Any-Tee-annual-charity-outing-in-chicago-event.png
ORGANIZER;CN="GOAT - Golf On Any Tee":MAILTO:info@golfonanytee.com
END:VEVENT
BEGIN:VEVENT
DTSTART;TZID=UTC:20251114T183000
DTEND;TZID=UTC:20251114T233000
DTSTAMP:20260425T152432
CREATED:20251111T103235Z
LAST-MODIFIED:20251111T104955Z
UID:22558-1763145000-1763163000@golfonanytee.com
SUMMARY:GOAT Meet Up
DESCRIPTION:G.O.A.T. MEET UP – Chicago Golf Community Event\nDate: Friday\, November 14thTime: 6:30 PMLocation: THEORY\, 9 W Hubbard St\, Chicago\, IL 60654Food Included | 🎁 First 30 Guests Receive a Free Custom GOAT T-Shirt \n⛳ Join the Ultimate Golf On Any Tee (GOAT) Meetup in Chicago!\nCalling all Chicago golfers! Whether you’re already a G.O.A.T. Member or just curious about our exclusive all-access golf membership\, this is the event for you. \nJoin us for an evening of networking\, food\, and fun with fellow golf lovers at Theory Chicago. You’ll get to connect with other players\, learn about the GOAT All-Access Membership\, and discover how you can play unlimited golf at 19 premium Chicagoland courses — all for just $2\,000 per year. \nNo tee time needed — just swing in\, hang out\, and be part of Chicago’s fastest-growing golf community. \nWhy Attend the GOAT Meetup?\n\n\nFree Food & Drinks – Enjoy great eats on us! \n\n\nFree GOAT T-Shirt – First 30 attendees get a custom tee! \n\n\nLearn About the GOAT Membership – One affordable pass\, 19 top golf courses\, unlimited play all year long. \n\n\nMeet Fellow Golfers & Course Owners – Build your local golf network and find your next playing partners. \n\n\nSocial Media Fun – Snap photos\, tag #GolfOnAnyTee and #GOATMeetUp\, and get featured on our page! \n\n\nAbout Golf On Any Tee (GOAT)\nGolf On Any Tee (GOAT) is Chicago’s premier multi-course membership platform. One affordable membership gives you unlimited golf access at 19 exclusive Chicagoland courses\, saving you thousands of dollars each year while keeping your game strong all season. \nWhether you’re an amateur or a pro\, GOAT connects passionate golfers across the Chicago area through premium experiences\, social events\, and unbeatable course access. \n📅 RSVP Now!\nDon’t miss out — spots fill up fast!Join us Friday\, November 14th at Theory Chicago for food\, giveaways\, and a chance to meet the GOAT community. \nQuestions? Contact us at info@golfonanytee.com for more information. \nWe can’t wait to see you on the course!
URL:https://golfonanytee.com/event/goat-meet-up/
LOCATION:9 W Hubbard St\, Chicago\, IL\, 60654\, 9W Hubbard St\, Chicago\, IL\, 60654\, United States
CATEGORIES:GOAT outings
ATTACH;FMTTYPE=image/jpeg:https://golfonanytee.com/wp-content/uploads/2025/11/WhatsApp-Image-2025-11-11-at-6.04.57-AM.jpeg
ORGANIZER;CN="GOAT - Golf On Any Tee":MAILTO:info@golfonanytee.com
END:VEVENT
BEGIN:VEVENT
DTSTART;VALUE=DATE:20260425
DTEND;VALUE=DATE:20260426
DTSTAMP:20260425T152432
CREATED:20260330T184122Z
LAST-MODIFIED:20260330T190245Z
UID:22647-1777075200-1777161599@golfonanytee.com
SUMMARY:GOAT - Golf Season Kick Off Outing
DESCRIPTION:GOAT Season Kickoff Outing 2026: Chicago’s Premier Spring Scramble\nIntroduction\nTee off the season in style at the GOAT Season Kickoff Outing\, coming to ThunderHawk GC on Saturday\, April 25th\, 2026. Located just a short drive from downtown Chicago in scenic Beach Park\, IL\, this is the ultimate way to shake off the winter rust. Whether you are a scratch golfer or just looking for a fun day on the links\, our scramble format ensures a high-energy\, low-pressure day perfect for golfers of all skill levels. \nEvent Details\nDate & Time\nMark your calendars for Saturday\, April 25th\, 2026. The action begins with a shotgun start at 8:00 AM sharp\, ensuring everyone finishes in time to enjoy the rest of their weekend. \nLocation: ThunderHawk GC\nWe are hosting this event at one of the top-rated public courses in the northern suburbs: ThunderHawk GC. Located at 39700 N Lewis Ave\, Beach Park\, Illinois\, this facility is renowned for its links-style layout\, pristine fairways\, and challenging yet rewarding design. It is the perfect venue to kick off the golf season in the Chicago area. \nFormat & Pricing\nWe are keeping the competition friendly with a 4-person scramble. No handicaps? No problem. The scramble format allows teams to focus on strategy and fun. \n\nRegistration Fee: $100 per player\nFormat: 4-Person Scramble\nIncludes: Greens fees\, cart\, and prize pool.\n\nWhy You Should Play\nThe Best Spring Golf Outing in Chicago\nAs the snow melts and the courses green up\, the GOAT Season Kickoff Outing stands out as the must-play event for Chicagoland golfers. We handle all the logistics so you can focus on hitting fairways and having a great time with your friends or business associates. \nWhat to Expect: \n\nCompetitive Fun: The scramble format encourages team camaraderie and big scores.\nPremier Venue: ThunderHawk GC is consistently rated as one of the best golf courses in Illinois.\nConvenient Location: Easily accessible for golfers coming from Chicago\, the North Shore\, and Kenosha County.\n\nRegistration\nSpots for this shotgun start event are limited. To secure your team’s place in the field\, visit www.golfonanytee.com today. Early registration is recommended\, as this event is expected to sell out quickly. \nDon’t miss your chance to be the GOAT of the spring season. Register now! \nQuestions? Contact us at info@golfonanytee.com for more information. \nWe can’t wait to see you on the course!
URL:https://golfonanytee.com/event/goat-golf-season-kick-off-outing/
LOCATION:Thunderhawk Golf Club\, 39700 N Lewis Ave\, Beach Park\, Chicago\, IL\, 60099\, United States
CATEGORIES:GOAT outings
ATTACH;FMTTYPE=image/jpeg:https://golfonanytee.com/wp-content/uploads/2026/03/goat-golf-season-outing.jpeg
ORGANIZER;CN="GOAT - Golf On Any Tee":MAILTO:info@golfonanytee.com
END:VEVENT
END:VCALENDAR